 
data_cfc2s 
 
_audit_creation_method            SHELXL-97 
_chemical_name_systematic 
; 
 ? 
; 
_chemical_name_common             ? 
_chemical_melting_point           ? 
_chemical_formula_moiety          ? 
_chemical_formula_sum 
 'C7 H5 O2' 
_chemical_formula_weight          121.11 
 
loop_ 
 _atom_type_symbol 
 _atom_type_description 
 _atom_type_scat_dispersion_real 
 _atom_type_scat_dispersion_imag 
 _atom_type_scat_source 
 'C'  'C'   0.0181   0.0091 
 'International Tables Vol C Tables 4.2.6.8 and 6.1.1.4' 
 'H'  'H'   0.0000   0.0000 
 'International Tables Vol C Tables 4.2.6.8 and 6.1.1.4' 
 'O'  'O'   0.0492   0.0322 
 'International Tables Vol C Tables 4.2.6.8 and 6.1.1.4' 
 
_symmetry_cell_setting            ? 
_symmetry_space_group_name_H-M    ? 
 
loop_ 
 _symmetry_equiv_pos_as_xyz 
 'x, y, z' 
 '-x, y+1/2, -z+1/2' 
 '-x, -y, -z' 
 'x, -y-1/2, z-1/2' 
 
_cell_length_a                    5.4215(6) 
_cell_length_b                    5.0420(6) 
_cell_length_c                    21.784(3) 
_cell_angle_alpha                 90.00 
_cell_angle_beta                  98.447(8) 
_cell_angle_gamma                 90.00 
_cell_volume                      589.01(13) 
_cell_formula_units_Z             4 
_cell_measurement_temperature     100(2) 
_cell_measurement_reflns_used     ? 
_cell_measurement_theta_min       ? 
_cell_measurement_theta_max       ? 
 
_exptl_crystal_description        ? 
_exptl_crystal_colour             ? 
_exptl_crystal_size_max           ? 
_exptl_crystal_size_mid           ? 
_exptl_crystal_size_min           ? 
_exptl_crystal_density_meas       ? 
_exptl_crystal_density_diffrn     1.366 
_exptl_crystal_density_method     'not measured' 
_exptl_crystal_F_000              252 
_exptl_absorpt_coefficient_mu     0.842 
_exptl_absorpt_correction_type    ? 
_exptl_absorpt_correction_T_min   ? 
_exptl_absorpt_correction_T_max   ? 
_exptl_absorpt_process_details    ? 
 
_exptl_special_details 
; 
 ? 
; 
 
_diffrn_ambient_temperature       100(2) 
_diffrn_radiation_wavelength      1.54178 
_diffrn_radiation_type            CuK\a 
_diffrn_radiation_source          'fine-focus sealed tube' 
_diffrn_radiation_monochromator   graphite 
_diffrn_measurement_device_type   ? 
_diffrn_measurement_method        ? 
_diffrn_detector_area_resol_mean  ? 
_diffrn_reflns_number             3703 
_diffrn_reflns_av_R_equivalents   0.0545 
_diffrn_reflns_av_sigmaI/netI     0.0558 
_diffrn_reflns_limit_h_min        -5 
_diffrn_reflns_limit_h_max        6 
_diffrn_reflns_limit_k_min        -5 
_diffrn_reflns_limit_k_max        5 
_diffrn_reflns_limit_l_min        -25 
_diffrn_reflns_limit_l_max        25 
_diffrn_reflns_theta_min          4.10 
_diffrn_reflns_theta_max          67.03 
_reflns_number_total              1001 
_reflns_number_gt                 789 
_reflns_threshold_expression      >2sigma(I) 
 
_computing_data_collection        ? 
_computing_cell_refinement        ? 
_computing_data_reduction         ? 
_computing_structure_solution     'SHELXS-97 (Sheldrick, 2008)' 
_computing_structure_refinement   'SHELXL-97 (Sheldrick, 2008)' 
_computing_molecular_graphics     ? 
_computing_publication_material   ? 
 
_refine_special_details 
; 
 Refinement of F² against ALL reflections.  The weighted R-factor wR and 
 goodness of fit S are based on F², conventional R-factors R are based 
 on F, with F set to zero for negative F². The threshold expression of 
 F² > 2sigma(F²) is used only for calculating R-factors(gt) etc. and is 
 not relevant to the choice of reflections for refinement.  R-factors based 
 on F² are statistically about twice as large as those based on F, and R- 
 factors based on ALL data will be even larger. 
; 
 
_refine_ls_structure_factor_coef  Fsqd  
_refine_ls_matrix_type            full 
_refine_ls_weighting_scheme       calc  
_refine_ls_weighting_details 
 'calc w=1/[σ²(Fo²)+(0.0100P)²+0.0000P] where P=(Fo²+2Fc²)/3' 
_atom_sites_solution_primary      direct 
_atom_sites_solution_secondary    difmap 
_atom_sites_solution_hydrogens    geom 
_refine_ls_hydrogen_treatment     mixed 
_refine_ls_extinction_method      none 
_refine_ls_extinction_coef        ? 
_refine_ls_number_reflns          1001 
_refine_ls_number_parameters      82 
_refine_ls_number_restraints      0 
_refine_ls_R_factor_all           0.1015 
_refine_ls_R_factor_gt            0.0876 
_refine_ls_wR_factor_ref          0.1780 
_refine_ls_wR_factor_gt           0.1759 
_refine_ls_goodness_of_fit_ref    2.646 
_refine_ls_restrained_S_all       2.646 
_refine_ls_shift/su_max           0.030 
_refine_ls_shift/su_mean          0.009 
 
loop_ 
 _atom_site_label 
 _atom_site_type_symbol 
 _atom_site_fract_x 
 _atom_site_fract_y 
 _atom_site_fract_z 
 _atom_site_U_iso_or_equiv 
 _atom_site_adp_type 
 _atom_site_occupancy 
 _atom_site_symmetry_multiplicity 
 _atom_site_calc_flag 
 _atom_site_refinement_flags 
 _atom_site_disorder_assembly 
 _atom_site_disorder_group 
O1 O 0.4026(5) 1.3566(5) 0.06538(12) 0.0384(7) Uani 1 1 d . . . 
O10 O 0.7166(5) 1.2567(5) 0.01303(12) 0.0383(7) Uani 1 1 d . . . 
C5 C 0.6754(6) 1.0098(7) 0.10401(16) 0.0292(8) Uani 1 1 d . . . 
C8 C 0.6209(7) 0.7754(7) 0.19684(18) 0.0378(9) Uani 1 1 d . . . 
H8A H 0.5320 0.7478 0.2308 0.045 Uiso 1 1 calc R . . 
C11 C 0.5959(6) 1.2207(6) 0.05710(16) 0.0300(8) Uani 1 1 d . . . 
C15 C 0.8262(7) 0.6222(7) 0.19080(18) 0.0373(9) Uani 1 1 d . . . 
H15A H 0.8785 0.4890 0.2208 0.045 Uiso 1 1 calc R . . 
C21 C 0.5444(7) 0.9697(7) 0.15332(17) 0.0338(9) Uani 1 1 d . . . 
H21A H 0.4025 1.0754 0.1572 0.041 Uiso 1 1 calc R . . 
C22 C 0.8832(7) 0.8538(7) 0.09807(17) 0.0349(9) Uani 1 1 d . . . 
H22A H 0.9733 0.8806 0.0643 0.042 Uiso 1 1 calc R . . 
C29 C 0.9564(7) 0.6599(7) 0.14182(18) 0.0371(10) Uani 1 1 d . . . 
H29A H 1.0972 0.5522 0.1381 0.045 Uiso 1 1 calc R . . 
 
loop_ 
 _atom_site_aniso_label 
 _atom_site_aniso_U_11 
 _atom_site_aniso_U_22 
 _atom_site_aniso_U_33 
 _atom_site_aniso_U_23 
 _atom_site_aniso_U_13 
 _atom_site_aniso_U_12 
O1 0.0373(15) 0.0308(15) 0.0483(16) 0.0009(11) 0.0105(11) 0.0075(11) 
O10 0.0426(15) 0.0320(14) 0.0427(16) 0.0031(11) 0.0141(11) 0.0043(12) 
C5 0.0290(18) 0.0223(19) 0.036(2) -0.0026(13) 0.0028(14) -0.0020(14) 
C8 0.040(2) 0.034(2) 0.041(2) 0.0013(16) 0.0086(16) -0.0033(17) 
C11 0.032(2) 0.0198(19) 0.038(2) -0.0043(14) 0.0060(15) -0.0003(15) 
C15 0.038(2) 0.026(2) 0.045(2) 0.0025(16) -0.0009(16) -0.0021(16) 
C21 0.033(2) 0.024(2) 0.044(2) -0.0025(15) 0.0073(16) 0.0022(15) 
C22 0.031(2) 0.030(2) 0.045(2) -0.0009(16) 0.0088(16) -0.0010(15) 
C29 0.032(2) 0.024(2) 0.056(3) -0.0003(16) 0.0072(16) 0.0019(14) 
 
_geom_special_details 
; 
 All esds (except the esd in the dihedral angle between two l.s. planes) 
 are estimated using the full covariance matrix.  The cell esds are taken 
 into account individually in the estimation of esds in distances, angles 
 and torsion angles; correlations between esds in cell parameters are only 
 used when they are defined by crystal symmetry.  An approximate (isotropic) 
 treatment of cell esds is used for estimating esds involving l.s. planes. 
; 
 
loop_ 
 _geom_bond_atom_site_label_1 
 _geom_bond_atom_site_label_2 
 _geom_bond_distance 
 _geom_bond_site_symmetry_2 
 _geom_bond_publ_flag 
O1 C11 1.287(4) . ? 
O10 C11 1.252(4) . ? 
C5 C21 1.387(5) . ? 
C5 C22 1.395(5) . ? 
C5 C11 1.494(5) . ? 
C8 C15 1.377(5) . ? 
C8 C21 1.384(5) . ? 
C8 H8A 0.9500 . ? 
C15 C29 1.376(5) . ? 
C15 H15A 0.9500 . ? 
C21 H21A 0.9500 . ? 
C22 C29 1.382(5) . ? 
C22 H22A 0.9500 . ? 
C29 H29A 0.9500 . ? 
 
loop_ 
 _geom_angle_atom_site_label_1 
 _geom_angle_atom_site_label_2 
 _geom_angle_atom_site_label_3 
 _geom_angle 
 _geom_angle_site_symmetry_1 
 _geom_angle_site_symmetry_3 
 _geom_angle_publ_flag 
C21 C5 C22 120.1(3) . . ? 
C21 C5 C11 120.3(3) . . ? 
C22 C5 C11 119.6(3) . . ? 
C15 C8 C21 119.8(3) . . ? 
C15 C8 H8A 120.1 . . ? 
C21 C8 H8A 120.1 . . ? 
O10 C11 O1 123.9(3) . . ? 
O10 C11 C5 119.8(3) . . ? 
O1 C11 C5 116.2(3) . . ? 
C29 C15 C8 120.7(4) . . ? 
C29 C15 H15A 119.6 . . ? 
C8 C15 H15A 119.6 . . ? 
C5 C21 C8 119.9(3) . . ? 
C5 C21 H21A 120.1 . . ? 
C8 C21 H21A 120.1 . . ? 
C29 C22 C5 119.3(3) . . ? 
C29 C22 H22A 120.4 . . ? 
C5 C22 H22A 120.4 . . ? 
C15 C29 C22 120.3(4) . . ? 
C15 C29 H29A 119.9 . . ? 
C22 C29 H29A 119.9 . . ? 
 
loop_ 
 _geom_torsion_atom_site_label_1 
 _geom_torsion_atom_site_label_2 
 _geom_torsion_atom_site_label_3 
 _geom_torsion_atom_site_label_4 
 _geom_torsion 
 _geom_torsion_site_symmetry_1 
 _geom_torsion_site_symmetry_2 
 _geom_torsion_site_symmetry_3 
 _geom_torsion_site_symmetry_4 
 _geom_torsion_publ_flag 
C21 C5 C11 O10 179.4(3) . . . . ? 
C22 C5 C11 O10 -0.3(5) . . . . ? 
C21 C5 C11 O1 -0.4(5) . . . . ? 
C22 C5 C11 O1 179.9(3) . . . . ? 
C21 C8 C15 C29 -0.1(6) . . . . ? 
C22 C5 C21 C8 0.3(5) . . . . ? 
C11 C5 C21 C8 -179.4(3) . . . . ? 
C15 C8 C21 C5 -0.3(6) . . . . ? 
C21 C5 C22 C29 0.0(5) . . . . ? 
C11 C5 C22 C29 179.7(3) . . . . ? 
C8 C15 C29 C22 0.3(6) . . . . ? 
C5 C22 C29 C15 -0.3(6) . . . . ? 
 
_diffrn_measured_fraction_theta_max    0.952 
_diffrn_reflns_theta_full              67.03 
_diffrn_measured_fraction_theta_full   0.952 
_refine_diff_density_max    0.398 
_refine_diff_density_min   -0.297 
_refine_diff_density_rms    0.086 
